Workbook

Sheet 提出一覧表
H1: 提出日
A3: 提出一覧表（介護予防ケアマネジメント）
A4: 介護職員等処遇改善加算 対応版（令和8年10月提供分以降）
A6: 委託料 計 | D6: =SUM(F12:F71) -> 0 | G6: 事業所名：
A7: 処遇改善加算 計 | D7: =SUM(G12:G71) -> 0 | G7: 事業所番号：
A8: 合計金額（処遇改善加算込み） | D8: =SUM(H12:H71) -> 0 | F8: =COUNTA(B12:B71)&"人分の給付管理票を提出" -> 0人分の給付管理票を提出
A9: 【入力方法】黄色のセルだけ入力してください。提供月・加算は▼から選択（加算は該当するとき「○」）。金額・合計は自動計算されます。 【印刷】名前を入力した行まで自動で印刷されます（最低20名分の枠を印刷・白黒印刷）。60名を超える場合は本様式をもう1部ご使用ください。
D10: 加算（○を選択） | F10: 自動計算
A11: No | B11: 氏 名 | C11: 提供月 ▼選択 | D11: 初回 加算 | E11: 委託連携 加算 | F11: 委託料 （円） | G11: 処遇改善 加算（円） | H11: 請求金額 （円） | I11: サービス計画作成 依頼届出日 | J11: 備 考
A12: 1 | F12: =IF(C12="","",ROUNDDOWN(L12*単価設定!$B$7,0)) | G12: =IF(C12="","",H12-F12) | H12: =IF(C12="","",ROUNDDOWN((L12+M12)*単価設定!$B$7,0)) | L12: =IF(C12="","",単価設定!$B$4+IF(D12="○",単価設定!$B$5,0)+IF(E12="○",単価設定!$B$6,0)) | M12: =IF(C12="","",ROUND(L12*単価設定!$B$8,0))
A13: 2 | F13: =IF(C13="","",ROUNDDOWN(L13*単価設定!$B$7,0)) | G13: =IF(C13="","",H13-F13) | H13: =IF(C13="","",ROUNDDOWN((L13+M13)*単価設定!$B$7,0)) | L13: =IF(C13="","",単価設定!$B$4+IF(D13="○",単価設定!$B$5,0)+IF(E13="○",単価設定!$B$6,0)) | M13: =IF(C13="","",ROUND(L13*単価設定!$B$8,0))
A14: 3 | F14: =IF(C14="","",ROUNDDOWN(L14*単価設定!$B$7,0)) | G14: =IF(C14="","",H14-F14) | H14: =IF(C14="","",ROUNDDOWN((L14+M14)*単価設定!$B$7,0)) | L14: =IF(C14="","",単価設定!$B$4+IF(D14="○",単価設定!$B$5,0)+IF(E14="○",単価設定!$B$6,0)) | M14: =IF(C14="","",ROUND(L14*単価設定!$B$8,0))
A15: 4 | F15: =IF(C15="","",ROUNDDOWN(L15*単価設定!$B$7,0)) | G15: =IF(C15="","",H15-F15) | H15: =IF(C15="","",ROUNDDOWN((L15+M15)*単価設定!$B$7,0)) | L15: =IF(C15="","",単価設定!$B$4+IF(D15="○",単価設定!$B$5,0)+IF(E15="○",単価設定!$B$6,0)) | M15: =IF(C15="","",ROUND(L15*単価設定!$B$8,0))
A16: 5 | F16: =IF(C16="","",ROUNDDOWN(L16*単価設定!$B$7,0)) | G16: =IF(C16="","",H16-F16) | H16: =IF(C16="","",ROUNDDOWN((L16+M16)*単価設定!$B$7,0)) | L16: =IF(C16="","",単価設定!$B$4+IF(D16="○",単価設定!$B$5,0)+IF(E16="○",単価設定!$B$6,0)) | M16: =IF(C16="","",ROUND(L16*単価設定!$B$8,0))
A17: 6 | F17: =IF(C17="","",ROUNDDOWN(L17*単価設定!$B$7,0)) | G17: =IF(C17="","",H17-F17) | H17: =IF(C17="","",ROUNDDOWN((L17+M17)*単価設定!$B$7,0)) | L17: =IF(C17="","",単価設定!$B$4+IF(D17="○",単価設定!$B$5,0)+IF(E17="○",単価設定!$B$6,0)) | M17: =IF(C17="","",ROUND(L17*単価設定!$B$8,0))
A18: 7 | F18: =IF(C18="","",ROUNDDOWN(L18*単価設定!$B$7,0)) | G18: =IF(C18="","",H18-F18) | H18: =IF(C18="","",ROUNDDOWN((L18+M18)*単価設定!$B$7,0)) | L18: =IF(C18="","",単価設定!$B$4+IF(D18="○",単価設定!$B$5,0)+IF(E18="○",単価設定!$B$6,0)) | M18: =IF(C18="","",ROUND(L18*単価設定!$B$8,0))
A19: 8 | F19: =IF(C19="","",ROUNDDOWN(L19*単価設定!$B$7,0)) | G19: =IF(C19="","",H19-F19) | H19: =IF(C19="","",ROUNDDOWN((L19+M19)*単価設定!$B$7,0)) | L19: =IF(C19="","",単価設定!$B$4+IF(D19="○",単価設定!$B$5,0)+IF(E19="○",単価設定!$B$6,0)) | M19: =IF(C19="","",ROUND(L19*単価設定!$B$8,0))
A20: 9 | F20: =IF(C20="","",ROUNDDOWN(L20*単価設定!$B$7,0)) | G20: =IF(C20="","",H20-F20) | H20: =IF(C20="","",ROUNDDOWN((L20+M20)*単価設定!$B$7,0)) | L20: =IF(C20="","",単価設定!$B$4+IF(D20="○",単価設定!$B$5,0)+IF(E20="○",単価設定!$B$6,0)) | M20: =IF(C20="","",ROUND(L20*単価設定!$B$8,0))
A21: 10 | F21: =IF(C21="","",ROUNDDOWN(L21*単価設定!$B$7,0)) | G21: =IF(C21="","",H21-F21) | H21: =IF(C21="","",ROUNDDOWN((L21+M21)*単価設定!$B$7,0)) | L21: =IF(C21="","",単価設定!$B$4+IF(D21="○",単価設定!$B$5,0)+IF(E21="○",単価設定!$B$6,0)) | M21: =IF(C21="","",ROUND(L21*単価設定!$B$8,0))
A22: 11 | F22: =IF(C22="","",ROUNDDOWN(L22*単価設定!$B$7,0)) | G22: =IF(C22="","",H22-F22) | H22: =IF(C22="","",ROUNDDOWN((L22+M22)*単価設定!$B$7,0)) | L22: =IF(C22="","",単価設定!$B$4+IF(D22="○",単価設定!$B$5,0)+IF(E22="○",単価設定!$B$6,0)) | M22: =IF(C22="","",ROUND(L22*単価設定!$B$8,0))
A23: 12 | F23: =IF(C23="","",ROUNDDOWN(L23*単価設定!$B$7,0)) | G23: =IF(C23="","",H23-F23) | H23: =IF(C23="","",ROUNDDOWN((L23+M23)*単価設定!$B$7,0)) | L23: =IF(C23="","",単価設定!$B$4+IF(D23="○",単価設定!$B$5,0)+IF(E23="○",単価設定!$B$6,0)) | M23: =IF(C23="","",ROUND(L23*単価設定!$B$8,0))
... A71: 60 | F71: =IF(C71="","",ROUNDDOWN(L71*単価設定!$B$7,0)) | G71: =IF(C71="","",H71-F71) | H71: =IF(C71="","",ROUNDDOWN((L71+M71)*単価設定!$B$7,0)) | L71: =IF(C71="","",単価設定!$B$4+IF(D71="○",単価設定!$B$5,0)+IF(E71="○",単価設定!$B$6,0)) | M71: =IF(C71="","",ROUND(L71*単価設定!$B$8,0))

Sheet 記入例
A1: 【記入例】 | H1: 提出日 | I1: 46331
A3: 提出一覧表（介護予防ケアマネジメント）
A4: 介護職員等処遇改善加算 対応版（令和8年10月提供分以降）
A6: 委託料 計 | D6: =SUM(F12:F71) -> 29680 | G6: 事業所名： | H6: ○○居宅介護支援事業所
A7: 処遇改善加算 計 | D7: =SUM(G12:G71) -> 630 | G7: 事業所番号： | H7: 3270000000
A8: 合計金額（処遇改善加算込み） | D8: =SUM(H12:H71) -> 30310 | F8: =COUNTA(B12:B71)&"人分の給付管理票を提出" -> 4人分の給付管理票を提出
A9: 【入力方法】黄色のセルだけ入力してください。提供月・加算は▼から選択（加算は該当するとき「○」）。金額・合計は自動計算されます。 【印刷】名前を入力した行まで自動で印刷されます（最低20名分の枠を印刷・白黒印刷）。60名を超える場合は本様式をもう1部ご使用ください。
D10: 加算（○を選択） | F10: 自動計算
A11: No | B11: 氏 名 | C11: 提供月 ▼選択 | D11: 初回 加算 | E11: 委託連携 加算 | F11: 委託料 （円） | G11: 処遇改善 加算（円） | H11: 請求金額 （円） | I11: サービス計画作成 依頼届出日 | J11: 備 考
A12: 1 | B12: 浜田 花子 | C12: 10月 | F12: =IF(C12="","",ROUNDDOWN(L12*単価設定!$B$7,0)) -> 4420 | G12: =IF(C12="","",H12-F12) -> 90 | H12: =IF(C12="","",ROUNDDOWN((L12+M12)*単価設定!$B$7,0)) -> 4510 | I12: 46122 | L12: =IF(C12="","",単価設定!$B$4+IF(D12="○",単価設定!$B$5,0)+IF(E12="○",単価設定!$B$6,0)) -> 442 | M12: =IF(C12="","",ROUND(L12*単価設定!$B$8,0)) -> 9
A13: 2 | B13: 江津 太郎 | C13: 10月 | D13: ○ | F13: =IF(C13="","",ROUNDDOWN(L13*単価設定!$B$7,0)) -> 7420 | G13: =IF(C13="","",H13-F13) -> 160 | H13: =IF(C13="","",ROUNDDOWN((L13+M13)*単価設定!$B$7,0)) -> 7580 | I13: 46296 | J13: 新規 | L13: =IF(C13="","",単価設定!$B$4+IF(D13="○",単価設定!$B$5,0)+IF(E13="○",単価設定!$B$6,0)) -> 742 | M13: =IF(C13="","",ROUND(L13*単価設定!$B$8,0)) -> 16
A14: 3 | B14: 松江 一郎 | C14: 10月 | E14: ○ | F14: =IF(C14="","",ROUNDDOWN(L14*単価設定!$B$7,0)) -> 7420 | G14: =IF(C14="","",H14-F14) -> 160 | H14: =IF(C14="","",ROUNDDOWN((L14+M14)*単価設定!$B$7,0)) -> 7580 | I14: 46285 | J14: 包括より引継ぎ | L14: =IF(C14="","",単価設定!$B$4+IF(D14="○",単価設定!$B$5,0)+IF(E14="○",単価設定!$B$6,0)) -> 742 | M14: =IF(C14="","",ROUND(L14*単価設定!$B$8,0)) -> 16
A15: 4 | B15: 出雲 次郎 | C15: 10月 | D15: ○ | E15: ○ | F15: =IF(C15="","",ROUNDDOWN(L15*単価設定!$B$7,0)) -> 10420 | G15: =IF(C15="","",H15-F15) -> 220 | H15: =IF(C15="","",ROUNDDOWN((L15+M15)*単価設定!$B$7,0)) -> 10640 | I15: 46298 | L15: =IF(C15="","",単価設定!$B$4+IF(D15="○",単価設定!$B$5,0)+IF(E15="○",単価設定!$B$6,0)) -> 1042 | M15: =IF(C15="","",ROUND(L15*単価設定!$B$8,0)) -> 22
A16: 5 | F16: =IF(C16="","",ROUNDDOWN(L16*単価設定!$B$7,0)) | G16: =IF(C16="","",H16-F16) | H16: =IF(C16="","",ROUNDDOWN((L16+M16)*単価設定!$B$7,0)) | L16: =IF(C16="","",単価設定!$B$4+IF(D16="○",単価設定!$B$5,0)+IF(E16="○",単価設定!$B$6,0)) | M16: =IF(C16="","",ROUND(L16*単価設定!$B$8,0))
A17: 6 | F17: =IF(C17="","",ROUNDDOWN(L17*単価設定!$B$7,0)) | G17: =IF(C17="","",H17-F17) | H17: =IF(C17="","",ROUNDDOWN((L17+M17)*単価設定!$B$7,0)) | L17: =IF(C17="","",単価設定!$B$4+IF(D17="○",単価設定!$B$5,0)+IF(E17="○",単価設定!$B$6,0)) | M17: =IF(C17="","",ROUND(L17*単価設定!$B$8,0))
A18: 7 | F18: =IF(C18="","",ROUNDDOWN(L18*単価設定!$B$7,0)) | G18: =IF(C18="","",H18-F18) | H18: =IF(C18="","",ROUNDDOWN((L18+M18)*単価設定!$B$7,0)) | L18: =IF(C18="","",単価設定!$B$4+IF(D18="○",単価設定!$B$5,0)+IF(E18="○",単価設定!$B$6,0)) | M18: =IF(C18="","",ROUND(L18*単価設定!$B$8,0))
A19: 8 | F19: =IF(C19="","",ROUNDDOWN(L19*単価設定!$B$7,0)) | G19: =IF(C19="","",H19-F19) | H19: =IF(C19="","",ROUNDDOWN((L19+M19)*単価設定!$B$7,0)) | L19: =IF(C19="","",単価設定!$B$4+IF(D19="○",単価設定!$B$5,0)+IF(E19="○",単価設定!$B$6,0)) | M19: =IF(C19="","",ROUND(L19*単価設定!$B$8,0))
A20: 9 | F20: =IF(C20="","",ROUNDDOWN(L20*単価設定!$B$7,0)) | G20: =IF(C20="","",H20-F20) | H20: =IF(C20="","",ROUNDDOWN((L20+M20)*単価設定!$B$7,0)) | L20: =IF(C20="","",単価設定!$B$4+IF(D20="○",単価設定!$B$5,0)+IF(E20="○",単価設定!$B$6,0)) | M20: =IF(C20="","",ROUND(L20*単価設定!$B$8,0))
A21: 10 | F21: =IF(C21="","",ROUNDDOWN(L21*単価設定!$B$7,0)) | G21: =IF(C21="","",H21-F21) | H21: =IF(C21="","",ROUNDDOWN((L21+M21)*単価設定!$B$7,0)) | L21: =IF(C21="","",単価設定!$B$4+IF(D21="○",単価設定!$B$5,0)+IF(E21="○",単価設定!$B$6,0)) | M21: =IF(C21="","",ROUND(L21*単価設定!$B$8,0))
A22: 11 | F22: =IF(C22="","",ROUNDDOWN(L22*単価設定!$B$7,0)) | G22: =IF(C22="","",H22-F22) | H22: =IF(C22="","",ROUNDDOWN((L22+M22)*単価設定!$B$7,0)) | L22: =IF(C22="","",単価設定!$B$4+IF(D22="○",単価設定!$B$5,0)+IF(E22="○",単価設定!$B$6,0)) | M22: =IF(C22="","",ROUND(L22*単価設定!$B$8,0))
A23: 12 | F23: =IF(C23="","",ROUNDDOWN(L23*単価設定!$B$7,0)) | G23: =IF(C23="","",H23-F23) | H23: =IF(C23="","",ROUNDDOWN((L23+M23)*単価設定!$B$7,0)) | L23: =IF(C23="","",単価設定!$B$4+IF(D23="○",単価設定!$B$5,0)+IF(E23="○",単価設定!$B$6,0)) | M23: =IF(C23="","",ROUND(L23*単価設定!$B$8,0))
A24: 13 | F24: =IF(C24="","",ROUNDDOWN(L24*単価設定!$B$7,0)) | G24: =IF(C24="","",H24-F24) | H24: =IF(C24="","",ROUNDDOWN((L24+M24)*単価設定!$B$7,0)) | L24: =IF(C24="","",単価設定!$B$4+IF(D24="○",単価設定!$B$5,0)+IF(E24="○",単価設定!$B$6,0)) | M24: =IF(C24="","",ROUND(L24*単価設定!$B$8,0))
A25: 14 | F25: =IF(C25="","",ROUNDDOWN(L25*単価設定!$B$7,0)) | G25: =IF(C25="","",H25-F25) | H25: =IF(C25="","",ROUNDDOWN((L25+M25)*単価設定!$B$7,0)) | L25: =IF(C25="","",単価設定!$B$4+IF(D25="○",単価設定!$B$5,0)+IF(E25="○",単価設定!$B$6,0)) | M25: =IF(C25="","",ROUND(L25*単価設定!$B$8,0))
A26: 15 | F26: =IF(C26="","",ROUNDDOWN(L26*単価設定!$B$7,0)) | G26: =IF(C26="","",H26-F26) | H26: =IF(C26="","",ROUNDDOWN((L26+M26)*単価設定!$B$7,0)) | L26: =IF(C26="","",単価設定!$B$4+IF(D26="○",単価設定!$B$5,0)+IF(E26="○",単価設定!$B$6,0)) | M26: =IF(C26="","",ROUND(L26*単価設定!$B$8,0))
A27: 16 | F27: =IF(C27="","",ROUNDDOWN(L27*単価設定!$B$7,0)) | G27: =IF(C27="","",H27-F27) | H27: =IF(C27="","",ROUNDDOWN((L27+M27)*単価設定!$B$7,0)) | L27: =IF(C27="","",単価設定!$B$4+IF(D27="○",単価設定!$B$5,0)+IF(E27="○",単価設定!$B$6,0)) | M27: =IF(C27="","",ROUND(L27*単価設定!$B$8,0))
... A71: 60 | F71: =IF(C71="","",ROUNDDOWN(L71*単価設定!$B$7,0)) | G71: =IF(C71="","",H71-F71) | H71: =IF(C71="","",ROUNDDOWN((L71+M71)*単価設定!$B$7,0)) | L71: =IF(C71="","",単価設定!$B$4+IF(D71="○",単価設定!$B$5,0)+IF(E71="○",単価設定!$B$6,0)) | M71: =IF(C71="","",ROUND(L71*単価設定!$B$8,0))

Sheet 単価設定
A1: 単価設定（地域包括支援センター記入用）
A2: ※居宅介護支援事業所の方は変更しないでください。
A3: 項目 | B3: 値 | C3: 説明 | E3: 提供月リスト
A4: 介護予防ケアマネジメント費（単位） | B4: 442 | C4: 介護予防ケアマネジメント費（ケアマネジメントA） 1月につき | E4: 4月
A5: 初回加算（単位） | B5: 300 | C5: 1月につき | E5: 5月
A6: 委託連携加算（単位） | B6: 300 | C6: 1月につき | E6: 6月
A7: 地域単価（円） | B7: 10 | C7: 1単位あたりの単価（当地域：10.00円） | E7: 7月
A8: 介護職員等処遇改善加算 加算率 | B8: 0.021 | C8: 介護予防ケアマネジメントの加算率（浜田地区広域行政組合：2.1%） | E8: 8月
E9: 9月
A10: 【計算方法】 | E10: 10月
A11: ① 総単位数 ＝ 介護予防ケアマネジメント費 ＋ 初回加算（○の場合）＋ 委託連携加算（○の場合） | E11: 11月
A12: ② 処遇改善加算（単位）＝ 総単位数 × 加算率（1単位未満四捨五入） | E12: 12月
A13: ③ 請求金額 ＝ （総単位数 ＋ 処遇改善加算単位）× 地域単価（1円未満切り捨て） | E13: 1月
A14: ④ うち委託料 ＝ 総単位数 × 地域単価（1円未満切り捨て）、処遇改善加算額 ＝ ③ − ④ | E14: 2月
E15: 3月
A16: 【計算例】（地域単価・加算率は上の設定値で自動計算）
A17: 算定パターン | B17: 総単位数 | C17: 処遇改善(単位) | D17: 請求金額(円)
A18: 介護予防ケアマネジメント費のみ | B18: =B4 -> 442 | C18: =ROUND(B18*$B$8,0) -> 9 | D18: =ROUNDDOWN((B18+C18)*$B$7,0) -> 4510
A19: ＋初回加算 | B19: =B4+B5 -> 742 | C19: =ROUND(B19*$B$8,0) -> 16 | D19: =ROUNDDOWN((B19+C19)*$B$7,0) -> 7580
A20: ＋委託連携加算 | B20: =B4+B6 -> 742 | C20: =ROUND(B20*$B$8,0) -> 16 | D20: =ROUNDDOWN((B20+C20)*$B$7,0) -> 7580
A21: ＋初回加算＋委託連携加算 | B21: =B4+B5+B6 -> 1042 | C21: =ROUND(B21*$B$8,0) -> 22 | D21: =ROUNDDOWN((B21+C21)*$B$7,0) -> 10640
A23: 参考：介護保険最新情報Vol.1479（令和8年3月13日）表1-5、令和8年6月介護報酬改定 請求明細書記載例（介護予防支援）
